BEGIN:VCALENDAR
VERSION:2.0
PRODID:Events Booking
BEGIN:VEVENT
UID:69ecac7e6bc83
SUMMARY:PUGET SOUND PCC GROW YOUR BUSINESS-MEMBERSHIP DAY!!
DESCRIPTION:Come on down and stop by the Puget Sound PCC booth IN-PERSON fo
 r a FREE GROW YOUR BUSINESS/MEMBERSHIP DAY EVENT:
 WEDNESDAY\, APRIL 29th
  \, 2026\, AT UNIVERSITY POSTAL STATION 11:00AM-1:30PM (PST)
 We would lo
 ve to see each and every customer so we can help build your business/ bran
 d with amazing information you can't refuse.
 Puget Sound PCC always want
 s to keep its customers inform and updated with all things PCC!!!For all u
 pdates for Puget Sound PCC please visit: www.pspcc.orgStop by and say hell
 o we would love to see ya!!!!!
DTSTART:20260429T180000Z
DTEND:20260429T083000Z
DTSTAMP:20260425T050522Z
ORGANIZER;CN=Puget Sound Postal Customer Council:MAILTO:info@pspcc.org
END:VEVENT
END:VCALENDAR